BEGIN:VCALENDAR
VERSION:2.0
PRODID:-//The Yoga Angel - ECPv6.15.13//NONSGML v1.0//EN
CALSCALE:GREGORIAN
METHOD:PUBLISH
X-WR-CALNAME:The Yoga Angel
X-ORIGINAL-URL:https://theyogaangel.com
X-WR-CALDESC:Events for The Yoga Angel
REFRESH-INTERVAL;VALUE=DURATION:PT1H
X-Robots-Tag:noindex
X-PUBLISHED-TTL:PT1H
BEGIN:VTIMEZONE
TZID:America/Los_Angeles
BEGIN:DAYLIGHT
TZOFFSETFROM:-0800
TZOFFSETTO:-0700
TZNAME:PDT
DTSTART:20250309T100000
END:DAYLIGHT
BEGIN:STANDARD
TZOFFSETFROM:-0700
TZOFFSETTO:-0800
TZNAME:PST
DTSTART:20251102T090000
END:STANDARD
BEGIN:DAYLIGHT
TZOFFSETFROM:-0800
TZOFFSETTO:-0700
TZNAME:PDT
DTSTART:20260308T100000
END:DAYLIGHT
BEGIN:STANDARD
TZOFFSETFROM:-0700
TZOFFSETTO:-0800
TZNAME:PST
DTSTART:20261101T090000
END:STANDARD
BEGIN:DAYLIGHT
TZOFFSETFROM:-0800
TZOFFSETTO:-0700
TZNAME:PDT
DTSTART:20270314T100000
END:DAYLIGHT
BEGIN:STANDARD
TZOFFSETFROM:-0700
TZOFFSETTO:-0800
TZNAME:PST
DTSTART:20271107T090000
END:STANDARD
END:VTIMEZONE
BEGIN:VEVENT
DTSTART;TZID=America/Los_Angeles:20260309T180000
DTEND;TZID=America/Los_Angeles:20260629T190000
DTSTAMP:20260423T104028
CREATED:20250928T230123Z
LAST-MODIFIED:20260303T214254Z
UID:12315-1773079200-1782759600@theyogaangel.com
SUMMARY:Gentle Yoga with Sound Healing (Monday evenings)
DESCRIPTION:Join Kelley for an evening of restorative movement and calming sound at InShape Fitness in Carmichael. From 6–7 pm\, this gentle practice will help you release stress\, find balance\, and leave feeling renewed in body and mind.  The class ends with deep relaxation Sound Healing: Tibetan singing bowls\, rainstick\, chimes…
URL:https://theyogaangel.com/event/gentle-yoga-with-sound-healing-52/
LOCATION:InShape Fitness (Carmichael)\, 7941 Fair Oaks Blvd.\, Carmichael\, CA\, 95608
CATEGORIES:Gentle Yoga,InShape Fitness,Sound Healing
ATTACH;FMTTYPE=image/jpeg:https://theyogaangel.com/wp-content/uploads/2025/09/Yoga-2.jpg
END:VEVENT
END:VCALENDAR