BEGIN:VCALENDAR
VERSION:2.0
PRODID:-//The Yoga Angel - ECPv6.15.13//NONSGML v1.0//EN
CALSCALE:GREGORIAN
METHOD:PUBLISH
X-WR-CALNAME:The Yoga Angel
X-ORIGINAL-URL:https://theyogaangel.com
X-WR-CALDESC:Events for The Yoga Angel
REFRESH-INTERVAL;VALUE=DURATION:PT1H
X-Robots-Tag:noindex
X-PUBLISHED-TTL:PT1H
BEGIN:VTIMEZONE
TZID:America/Los_Angeles
BEGIN:DAYLIGHT
TZOFFSETFROM:-0800
TZOFFSETTO:-0700
TZNAME:PDT
DTSTART:20240310T100000
END:DAYLIGHT
BEGIN:STANDARD
TZOFFSETFROM:-0700
TZOFFSETTO:-0800
TZNAME:PST
DTSTART:20241103T090000
END:STANDARD
BEGIN:DAYLIGHT
TZOFFSETFROM:-0800
TZOFFSETTO:-0700
TZNAME:PDT
DTSTART:20250309T100000
END:DAYLIGHT
BEGIN:STANDARD
TZOFFSETFROM:-0700
TZOFFSETTO:-0800
TZNAME:PST
DTSTART:20251102T090000
END:STANDARD
BEGIN:DAYLIGHT
TZOFFSETFROM:-0800
TZOFFSETTO:-0700
TZNAME:PDT
DTSTART:20260308T100000
END:DAYLIGHT
BEGIN:STANDARD
TZOFFSETFROM:-0700
TZOFFSETTO:-0800
TZNAME:PST
DTSTART:20261101T090000
END:STANDARD
END:VTIMEZONE
BEGIN:VEVENT
DTSTART;TZID=America/Los_Angeles:20251020T180000
DTEND;TZID=America/Los_Angeles:20251020T190000
DTSTAMP:20260423T173826
CREATED:20250928T224054Z
LAST-MODIFIED:20250928T224054Z
UID:12255-1760983200-1760986800@theyogaangel.com
SUMMARY:Gentle Yoga with Sound Healing
DESCRIPTION:Join Kelley for an evening of restorative movement and calming sound at InShape Fitness in Carmichael. From 6–7 pm\, this gentle practice will help you release stress\, find balance\, and leave feeling renewed in body and mind.
URL:https://theyogaangel.com/event/gentle-yoga-with-sound-healing-22/
LOCATION:InShape Fitness (Carmichael)\, 7941 Fair Oaks Blvd.\, Carmichael\, CA\, 95608
CATEGORIES:Gentle Yoga,InShape Fitness,Sound Healing
ATTACH;FMTTYPE=image/jpeg:https://theyogaangel.com/wp-content/uploads/2025/09/Yoga-2.jpg
END:VEVENT
BEGIN:VEVENT
DTSTART;TZID=America/Los_Angeles:20251020T100000
DTEND;TZID=America/Los_Angeles:20251020T110000
DTSTAMP:20260423T173826
CREATED:20250928T231307Z
LAST-MODIFIED:20250928T231307Z
UID:12331-1760954400-1760958000@theyogaangel.com
SUMMARY:Gentle Yoga with Sound Healing
DESCRIPTION:Begin your Sunday with a restorative practice at InShape Fitness (Sunrise–Zinfandel). From 10–11 am\, Kelley weaves gentle yoga with soothing sound healing to help you reset\, recharge\, and step into the week with clarity and ease.
URL:https://theyogaangel.com/event/gentle-yoga-with-sound-healing-59/
LOCATION:InShape Fitness (Sunrise- Zinfandel)\, 1975 Zinfandel Drive\, Rancho Cordova\, CA\, 95670
CATEGORIES:Gentle Yoga,InShape Fitness,Sound Healing
ATTACH;FMTTYPE=image/jpeg:https://theyogaangel.com/wp-content/uploads/2025/09/Yoga-6.jpg
END:VEVENT
BEGIN:VEVENT
DTSTART;TZID=America/Los_Angeles:20251019T100000
DTEND;TZID=America/Los_Angeles:20251019T110000
DTSTAMP:20260423T173826
CREATED:20250928T224552Z
LAST-MODIFIED:20250928T224552Z
UID:12265-1760868000-1760871600@theyogaangel.com
SUMMARY:Gentle Yoga with Sound Healing
DESCRIPTION:Begin your Sunday with a restorative practice at InShape Fitness (Sunrise–Zinfandel). From 10–11 am\, Kelley weaves gentle yoga with soothing sound healing to help you reset\, recharge\, and step into the week with clarity and ease.
URL:https://theyogaangel.com/event/gentle-yoga-with-sound-healing-27/
LOCATION:InShape Fitness (Sunrise- Zinfandel)\, 1975 Zinfandel Drive\, Rancho Cordova\, CA\, 95670
CATEGORIES:Gentle Yoga,InShape Fitness,Sound Healing
ATTACH;FMTTYPE=image/jpeg:https://theyogaangel.com/wp-content/uploads/2025/09/Yoga-6.jpg
END:VEVENT
BEGIN:VEVENT
DTSTART;TZID=America/Los_Angeles:20251016T173000
DTEND;TZID=America/Los_Angeles:20251016T183000
DTSTAMP:20260423T173826
CREATED:20250928T224333Z
LAST-MODIFIED:20250928T224333Z
UID:12261-1760635800-1760639400@theyogaangel.com
SUMMARY:Gentle Yoga with Sound Healing
DESCRIPTION:Close out your day with a calming practice at InShape Fitness in Orangevale. From 5:30–6:30 pm\, Kelley leads a gentle flow designed to release tension\, restore balance\, and leave you feeling centered for the evening.
URL:https://theyogaangel.com/event/gentle-yoga-with-sound-healing-25/
LOCATION:InShape Fitness (Orangevale)\, 8680 Greenback Lane Ste. 110\, Orangevale\, CA\, 95662
CATEGORIES:Gentle Yoga,InShape Fitness,Sound Healing
ATTACH;FMTTYPE=image/jpeg:https://theyogaangel.com/wp-content/uploads/2025/09/Yoga-1.jpg
END:VEVENT
BEGIN:VEVENT
DTSTART;TZID=America/Los_Angeles:20251016T100000
DTEND;TZID=America/Los_Angeles:20251016T110000
DTSTAMP:20260423T173826
CREATED:20250928T224413Z
LAST-MODIFIED:20250928T224413Z
UID:12263-1760608800-1760612400@theyogaangel.com
SUMMARY:Gentle Yoga with Sound Healing
DESCRIPTION:Brighten your Thursday morning with gentle yoga at InShape Fitness in Citrus Heights. From 10–11 am\, Kelley guides a supportive practice that encourages ease\, balance\, and a calm start to the day.
URL:https://theyogaangel.com/event/gentle-yoga-with-sound-healing-26/
LOCATION:InShape Fitness (Citrus Heights)\, 7700 Sunrise Blvd.\, Citrus Heights\, CA\, 95610
CATEGORIES:Gentle Yoga,InShape Fitness,Sound Healing
ATTACH;FMTTYPE=image/jpeg:https://theyogaangel.com/wp-content/uploads/2025/09/Yoga-7.jpg
END:VEVENT
BEGIN:VEVENT
DTSTART;TZID=America/Los_Angeles:20251014T190000
DTEND;TZID=America/Los_Angeles:20251014T200000
DTSTAMP:20260423T173826
CREATED:20250928T224215Z
LAST-MODIFIED:20250928T224215Z
UID:12257-1760468400-1760472000@theyogaangel.com
SUMMARY:Gentle Yoga with Sound Healing
DESCRIPTION:Unwind at the end of your day with an evening practice at Violet Wellness Spa in Fair Oaks. From 7–8 pm\, Kelley combines gentle yoga with soothing sound healing to help you release tension\, restore balance\, and relax deeply.
URL:https://theyogaangel.com/event/gentle-yoga-with-sound-healing-23/
LOCATION:Violet Wellness Spa\, 4125 Temescal St\, Fair Oaks\, CA\, 95628
CATEGORIES:Gentle Yoga,Sound Healing,Violet Wellness Spa
ATTACH;FMTTYPE=image/jpeg:https://theyogaangel.com/wp-content/uploads/2025/09/Yoga-3.jpg
END:VEVENT
BEGIN:VEVENT
DTSTART;TZID=America/Los_Angeles:20251014T100000
DTEND;TZID=America/Los_Angeles:20251014T110000
DTSTAMP:20260423T173826
CREATED:20250928T224244Z
LAST-MODIFIED:20250928T224244Z
UID:12259-1760436000-1760439600@theyogaangel.com
SUMMARY:Gentle Yoga with Sound Healing
DESCRIPTION:Begin your Sunday with a restorative practice at InShape Fitness (Sunrise–Zinfandel). From 10–11 am\, Kelley weaves gentle yoga with soothing sound healing to help you reset\, recharge\, and step into the week with clarity and ease.
URL:https://theyogaangel.com/event/gentle-yoga-with-sound-healing-24/
LOCATION:InShape Fitness (Sunrise- Zinfandel)\, 1975 Zinfandel Drive\, Rancho Cordova\, CA\, 95670
CATEGORIES:Gentle Yoga,InShape Fitness,Sound Healing
ATTACH;FMTTYPE=image/jpeg:https://theyogaangel.com/wp-content/uploads/2025/09/Yoga-6.jpg
END:VEVENT
BEGIN:VEVENT
DTSTART;TZID=America/Los_Angeles:20251013T180000
DTEND;TZID=America/Los_Angeles:20251013T190000
DTSTAMP:20260423T173826
CREATED:20250928T221456Z
LAST-MODIFIED:20250928T221456Z
UID:12243-1760378400-1760382000@theyogaangel.com
SUMMARY:Gentle Yoga with Sound Healing
DESCRIPTION:Join Kelley for an evening of restorative movement and calming sound at InShape Fitness in Carmichael. From 6–7 pm\, this gentle practice will help you release stress\, find balance\, and leave feeling renewed in body and mind.
URL:https://theyogaangel.com/event/gentle-yoga-with-sound-healing-16/
LOCATION:InShape Fitness (Carmichael)\, 7941 Fair Oaks Blvd.\, Carmichael\, CA\, 95608
CATEGORIES:Gentle Yoga,InShape Fitness,Sound Healing
ATTACH;FMTTYPE=image/jpeg:https://theyogaangel.com/wp-content/uploads/2025/09/Yoga-2.jpg
END:VEVENT
BEGIN:VEVENT
DTSTART;TZID=America/Los_Angeles:20251012T100000
DTEND;TZID=America/Los_Angeles:20251012T110000
DTSTAMP:20260423T173826
CREATED:20250928T224014Z
LAST-MODIFIED:20250928T224014Z
UID:12253-1760263200-1760266800@theyogaangel.com
SUMMARY:Gentle Yoga with Sound Healing
DESCRIPTION:Begin your Sunday with a restorative practice at InShape Fitness (Sunrise–Zinfandel). From 10–11 am\, Kelley weaves gentle yoga with soothing sound healing to help you reset\, recharge\, and step into the week with clarity and ease.
URL:https://theyogaangel.com/event/gentle-yoga-with-sound-healing-21/
LOCATION:InShape Fitness (Sunrise- Zinfandel)\, 1975 Zinfandel Drive\, Rancho Cordova\, CA\, 95670
CATEGORIES:Gentle Yoga,InShape Fitness,Sound Healing
ATTACH;FMTTYPE=image/jpeg:https://theyogaangel.com/wp-content/uploads/2025/09/Yoga-6.jpg
END:VEVENT
BEGIN:VEVENT
DTSTART;TZID=America/Los_Angeles:20251009T173000
DTEND;TZID=America/Los_Angeles:20251009T183000
DTSTAMP:20260423T173826
CREATED:20250928T223857Z
LAST-MODIFIED:20250928T223857Z
UID:12251-1760031000-1760034600@theyogaangel.com
SUMMARY:Gentle Yoga with Sound Healing
DESCRIPTION:Close out your day with a calming practice at InShape Fitness in Orangevale. From 5:30–6:30 pm\, Kelley leads a gentle flow designed to release tension\, restore balance\, and leave you feeling centered for the evening.
URL:https://theyogaangel.com/event/gentle-yoga-with-sound-healing-20/
LOCATION:InShape Fitness (Orangevale)\, 8680 Greenback Lane Ste. 110\, Orangevale\, CA\, 95662
CATEGORIES:Gentle Yoga,InShape Fitness,Sound Healing
ATTACH;FMTTYPE=image/jpeg:https://theyogaangel.com/wp-content/uploads/2025/09/Yoga-1.jpg
END:VEVENT
BEGIN:VEVENT
DTSTART;TZID=America/Los_Angeles:20251009T100000
DTEND;TZID=America/Los_Angeles:20251009T110000
DTSTAMP:20260423T173826
CREATED:20250928T223550Z
LAST-MODIFIED:20250928T223550Z
UID:12249-1760004000-1760007600@theyogaangel.com
SUMMARY:Gentle Yoga with Sound Healing
DESCRIPTION:Brighten your Thursday morning with gentle yoga at InShape Fitness in Citrus Heights. From 10–11 am\, Kelley guides a supportive practice that encourages ease\, balance\, and a calm start to the day.
URL:https://theyogaangel.com/event/gentle-yoga-with-sound-healing-19/
LOCATION:InShape Fitness (Citrus Heights)\, 7700 Sunrise Blvd.\, Citrus Heights\, CA\, 95610
CATEGORIES:Gentle Yoga,InShape Fitness,Sound Healing
ATTACH;FMTTYPE=image/jpeg:https://theyogaangel.com/wp-content/uploads/2025/09/Yoga-7.jpg
END:VEVENT
BEGIN:VEVENT
DTSTART;TZID=America/Los_Angeles:20251007T190000
DTEND;TZID=America/Los_Angeles:20251007T200000
DTSTAMP:20260423T173826
CREATED:20250928T221711Z
LAST-MODIFIED:20250928T221711Z
UID:12245-1759863600-1759867200@theyogaangel.com
SUMMARY:Gentle Yoga with Sound Healing
DESCRIPTION:Unwind at the end of your day with an evening practice at Violet Wellness Spa in Fair Oaks. From 7–8 pm\, Kelley combines gentle yoga with soothing sound healing to help you release tension\, restore balance\, and relax deeply.
URL:https://theyogaangel.com/event/gentle-yoga-with-sound-healing-17/
LOCATION:Violet Wellness Spa\, 4125 Temescal St\, Fair Oaks\, CA\, 95628
CATEGORIES:Gentle Yoga,Sound Healing,Violet Wellness Spa
ATTACH;FMTTYPE=image/jpeg:https://theyogaangel.com/wp-content/uploads/2025/09/Yoga-3.jpg
END:VEVENT
BEGIN:VEVENT
DTSTART;TZID=America/Los_Angeles:20251007T100000
DTEND;TZID=America/Los_Angeles:20251007T110000
DTSTAMP:20260423T173826
CREATED:20250928T223139Z
LAST-MODIFIED:20250928T223429Z
UID:12247-1759831200-1759834800@theyogaangel.com
SUMMARY:Gentle Yoga with Sound Healing
DESCRIPTION:Begin your Sunday with a restorative practice at InShape Fitness (Sunrise–Zinfandel). From 10–11 am\, Kelley weaves gentle yoga with soothing sound healing to help you reset\, recharge\, and step into the week with clarity and ease.
URL:https://theyogaangel.com/event/gentle-yoga-with-sound-healing-18/
LOCATION:InShape Fitness (Sunrise- Zinfandel)\, 1975 Zinfandel Drive\, Rancho Cordova\, CA\, 95670
CATEGORIES:Gentle Yoga,InShape Fitness,Sound Healing
ATTACH;FMTTYPE=image/jpeg:https://theyogaangel.com/wp-content/uploads/2025/09/Yoga-6.jpg
END:VEVENT
BEGIN:VEVENT
DTSTART;TZID=America/Los_Angeles:20251006T180000
DTEND;TZID=America/Los_Angeles:20251006T190000
DTSTAMP:20260423T173826
CREATED:20250928T193542Z
LAST-MODIFIED:20250928T193715Z
UID:12229-1759773600-1759777200@theyogaangel.com
SUMMARY:Gentle Yoga with Sound Healing
DESCRIPTION:Join Kelley for an evening of restorative movement and calming sound at InShape Fitness in Carmichael. From 6–7 pm\, this gentle practice will help you release stress\, find balance\, and leave feeling renewed in body and mind.
URL:https://theyogaangel.com/event/gentle-yoga-with-sound-healing-14/
LOCATION:InShape Fitness (Carmichael)\, 7941 Fair Oaks Blvd.\, Carmichael\, CA\, 95608
CATEGORIES:Gentle Yoga,InShape Fitness,Sound Healing
ATTACH;FMTTYPE=image/jpeg:https://theyogaangel.com/wp-content/uploads/2025/09/Yoga-2.jpg
END:VEVENT
BEGIN:VEVENT
DTSTART;TZID=America/Los_Angeles:20251005T100000
DTEND;TZID=America/Los_Angeles:20251005T110000
DTSTAMP:20260423T173826
CREATED:20250928T194015Z
LAST-MODIFIED:20250928T194015Z
UID:12233-1759658400-1759662000@theyogaangel.com
SUMMARY:Gentle Yoga with Sound Healing
DESCRIPTION:Begin your Sunday with a restorative practice at InShape Fitness (Sunrise–Zinfandel). From 10–11 am\, Kelley weaves gentle yoga with soothing sound healing to help you reset\, recharge\, and step into the week with clarity and ease.
URL:https://theyogaangel.com/event/gentle-yoga-with-sound-healing-15/
LOCATION:InShape Fitness (Sunrise- Zinfandel)\, 1975 Zinfandel Drive\, Rancho Cordova\, CA\, 95670
CATEGORIES:Gentle Yoga,InShape Fitness,Sound Healing
ATTACH;FMTTYPE=image/jpeg:https://theyogaangel.com/wp-content/uploads/2025/09/Yoga-6.jpg
END:VEVENT
BEGIN:VEVENT
DTSTART;TZID=America/Los_Angeles:20251005T080000
DTEND;TZID=America/Los_Angeles:20251005T090000
DTSTAMP:20260423T173826
CREATED:20250928T193005Z
LAST-MODIFIED:20250928T193005Z
UID:12224-1759651200-1759654800@theyogaangel.com
SUMMARY:Gentle Yoga in the Park… for Cell Phone Users!
DESCRIPTION:Start your Sunday with a mindful reset before the Farmers Market begins. Join us for an easy hour of gentle yoga designed to release tension from tech use and bring balance back to body and mind. After class\, linger in the fresh air\, explore the market\, and connect with the wonderful local vendors waiting just steps away. \nThis is a donation based event. Please send your donation via Venmo. Thank you.
URL:https://theyogaangel.com/event/gentle-yoga-in-the-park-for-cell-phone-users-2/
LOCATION:Carmichael Park\, 5750 Grant Avenue\, Carmichael\, CA\, 95608
CATEGORIES:Cell Phone Users
ATTACH;FMTTYPE=image/jpeg:https://theyogaangel.com/wp-content/uploads/2025/09/pexels-photo-1472887-1472887-2-e1759087789359.jpg
END:VEVENT
BEGIN:VEVENT
DTSTART;TZID=America/Los_Angeles:20251002T173000
DTEND;TZID=America/Los_Angeles:20251002T183000
DTSTAMP:20260423T173826
CREATED:20250913T055225Z
LAST-MODIFIED:20250913T055225Z
UID:11985-1759426200-1759429800@theyogaangel.com
SUMMARY:Gentle Yoga with Sound Healing
DESCRIPTION:Close out your day with a calming practice at InShape Fitness in Orangevale. From 5:30–6:30 pm\, Kelley leads a gentle flow designed to release tension\, restore balance\, and leave you feeling centered for the evening.
URL:https://theyogaangel.com/event/gentle-yoga-with-sound-healing-12/
LOCATION:InShape Fitness (Orangevale)\, 8680 Greenback Lane Ste. 110\, Orangevale\, CA\, 95662
CATEGORIES:Gentle Yoga,InShape Fitness,Sound Healing
ATTACH;FMTTYPE=image/jpeg:https://theyogaangel.com/wp-content/uploads/2025/09/Yoga-1.jpg
END:VEVENT
BEGIN:VEVENT
DTSTART;TZID=America/Los_Angeles:20251002T100000
DTEND;TZID=America/Los_Angeles:20251002T110000
DTSTAMP:20260423T173826
CREATED:20250913T055234Z
LAST-MODIFIED:20250913T055234Z
UID:11986-1759399200-1759402800@theyogaangel.com
SUMMARY:Gentle Yoga with Sound Healing
DESCRIPTION:Brighten your Thursday morning with gentle yoga at InShape Fitness in Citrus Heights. From 10–11 am\, Kelley guides a supportive practice that encourages ease\, balance\, and a calm start to the day.
URL:https://theyogaangel.com/event/gentle-yoga-with-sound-healing-13/
LOCATION:InShape Fitness (Citrus Heights)\, 7700 Sunrise Blvd.\, Citrus Heights\, CA\, 95610
CATEGORIES:Gentle Yoga,InShape Fitness,Sound Healing
ATTACH;FMTTYPE=image/jpeg:https://theyogaangel.com/wp-content/uploads/2025/09/Yoga-7.jpg
END:VEVENT
BEGIN:VEVENT
DTSTART;TZID=America/Los_Angeles:20250930T190000
DTEND;TZID=America/Los_Angeles:20250930T200000
DTSTAMP:20260423T173826
CREATED:20250913T050629Z
LAST-MODIFIED:20250913T050751Z
UID:11929-1759258800-1759262400@theyogaangel.com
SUMMARY:Gentle Yoga with Sound Healing
DESCRIPTION:Unwind at the end of your day with an evening practice at Violet Wellness Spa in Fair Oaks. From 7–8 pm\, Kelley combines gentle yoga with soothing sound healing to help you release tension\, restore balance\, and relax deeply.
URL:https://theyogaangel.com/event/gentle-yoga-with-sound-healing-8/
LOCATION:Violet Wellness Spa\, 4125 Temescal St\, Fair Oaks\, CA\, 95628
CATEGORIES:Gentle Yoga,Sound Healing,Violet Wellness Spa
ATTACH;FMTTYPE=image/jpeg:https://theyogaangel.com/wp-content/uploads/2025/09/Yoga-3.jpg
END:VEVENT
BEGIN:VEVENT
DTSTART;TZID=America/Los_Angeles:20250930T100000
DTEND;TZID=America/Los_Angeles:20250930T110000
DTSTAMP:20260423T173826
CREATED:20250928T234820Z
LAST-MODIFIED:20250928T234820Z
UID:12335-1759226400-1759230000@theyogaangel.com
SUMMARY:Gentle Yoga with Sound Healing
DESCRIPTION:Start your Tuesday morning with an uplifting hour of gentle yoga at InShape Fitness (Sunrise–Zinfandel). From 10–11 am\, Kelley will guide you through mindful movement and breathwork to help you feel grounded\, energized\, and ready for the day.
URL:https://theyogaangel.com/event/gentle-yoga-with-sound-healing-60/
LOCATION:InShape Fitness (Sunrise- Zinfandel)\, 1975 Zinfandel Drive\, Rancho Cordova\, CA\, 95670
CATEGORIES:Gentle Yoga,InShape Fitness,Sound Healing
ATTACH;FMTTYPE=image/jpeg:https://theyogaangel.com/wp-content/uploads/2025/09/Yoga-4.jpg
END:VEVENT
BEGIN:VEVENT
DTSTART;TZID=America/Los_Angeles:20250929T180000
DTEND;TZID=America/Los_Angeles:20250929T190000
DTSTAMP:20260423T173826
CREATED:20250913T055147Z
LAST-MODIFIED:20250913T055147Z
UID:11983-1759168800-1759172400@theyogaangel.com
SUMMARY:Gentle Yoga with Sound Healing
DESCRIPTION:Join Kelley for an evening of restorative movement and calming sound at InShape Fitness in Carmichael. From 6–7 pm\, this gentle practice will help you release stress\, find balance\, and leave feeling renewed in body and mind.
URL:https://theyogaangel.com/event/gentle-yoga-with-sound-healing-11/
LOCATION:InShape Fitness (Carmichael)\, 7941 Fair Oaks Blvd.\, Carmichael\, CA\, 95608
CATEGORIES:Gentle Yoga,InShape Fitness,Sound Healing
ATTACH;FMTTYPE=image/jpeg:https://theyogaangel.com/wp-content/uploads/2025/09/Yoga-2.jpg
END:VEVENT
BEGIN:VEVENT
DTSTART;TZID=America/Los_Angeles:20250928T080000
DTEND;TZID=America/Los_Angeles:20250928T090000
DTSTAMP:20260423T173826
CREATED:20250925T233940Z
LAST-MODIFIED:20250928T031613Z
UID:12179-1759046400-1759050000@theyogaangel.com
SUMMARY:Gentle Yoga in the Park… for Cell Phone Users!
DESCRIPTION:Start your Sunday with a mindful reset before the Farmers Market begins. Join us for an easy hour of gentle yoga designed to release tension from tech use and bring balance back to body and mind. After class\, linger in the fresh air\, explore the market\, and connect with the wonderful local vendors waiting just steps away. \nThis is a donation based event. Please send your donation via Venmo. Thank you.
URL:https://theyogaangel.com/event/gentle-yoga-in-the-park-for-cell-phone-users/
LOCATION:Carmichael Park\, 5750 Grant Avenue\, Carmichael\, CA\, 95608
CATEGORIES:Cell Phone Users
ATTACH;FMTTYPE=image/jpeg:https://theyogaangel.com/wp-content/uploads/2025/09/Yoga-5.jpg
END:VEVENT
BEGIN:VEVENT
DTSTART;TZID=America/Los_Angeles:20250925T173000
DTEND;TZID=America/Los_Angeles:20250925T183000
DTSTAMP:20260423T173826
CREATED:20250913T054354Z
LAST-MODIFIED:20250913T054354Z
UID:11974-1758821400-1758825000@theyogaangel.com
SUMMARY:Gentle Yoga with Sound Healing
DESCRIPTION:Close out your day with a calming practice at InShape Fitness in Orangevale. From 5:30–6:30 pm\, Kelley leads a gentle flow designed to release tension\, restore balance\, and leave you feeling centered for the evening.
URL:https://theyogaangel.com/event/gentle-yoga-with-sound-healing-10/
LOCATION:InShape Fitness (Orangevale)\, 8680 Greenback Lane Ste. 110\, Orangevale\, CA\, 95662
CATEGORIES:Gentle Yoga,InShape Fitness,Sound Healing
ATTACH;FMTTYPE=image/jpeg:https://theyogaangel.com/wp-content/uploads/2025/09/Yoga-1.jpg
END:VEVENT
BEGIN:VEVENT
DTSTART;TZID=America/Los_Angeles:20250925T100000
DTEND;TZID=America/Los_Angeles:20250925T110000
DTSTAMP:20260423T173826
CREATED:20250913T054249Z
LAST-MODIFIED:20250913T054249Z
UID:11972-1758794400-1758798000@theyogaangel.com
SUMMARY:Gentle Yoga with Sound Healing
DESCRIPTION:Brighten your Thursday morning with gentle yoga at InShape Fitness in Citrus Heights. From 10–11 am\, Kelley guides a supportive practice that encourages ease\, balance\, and a calm start to the day.
URL:https://theyogaangel.com/event/gentle-yoga-with-sound-healing-9/
LOCATION:InShape Fitness (Citrus Heights)\, 7700 Sunrise Blvd.\, Citrus Heights\, CA\, 95610
CATEGORIES:Gentle Yoga,InShape Fitness,Sound Healing
ATTACH;FMTTYPE=image/jpeg:https://theyogaangel.com/wp-content/uploads/2025/09/Yoga-7.jpg
END:VEVENT
BEGIN:VEVENT
DTSTART;TZID=America/Los_Angeles:20250923T190000
DTEND;TZID=America/Los_Angeles:20250923T200000
DTSTAMP:20260423T173826
CREATED:20250913T005003Z
LAST-MODIFIED:20250913T050037Z
UID:11893-1758654000-1758657600@theyogaangel.com
SUMMARY:Gentle Yoga with Sound Healing
DESCRIPTION:Unwind at the end of your day with an evening practice at Violet Wellness Spa in Fair Oaks. From 7–8 pm\, Kelley combines gentle yoga with soothing sound healing to help you release tension\, restore balance\, and relax deeply.
URL:https://theyogaangel.com/event/gentle-yoga-with-sound-healing-5/
LOCATION:Violet Wellness Spa\, 4125 Temescal St\, Fair Oaks\, CA\, 95628
CATEGORIES:Gentle Yoga,Sound Healing,Violet Wellness Spa
ATTACH;FMTTYPE=image/jpeg:https://theyogaangel.com/wp-content/uploads/2025/09/Yoga-3.jpg
END:VEVENT
BEGIN:VEVENT
DTSTART;TZID=America/Los_Angeles:20250923T100000
DTEND;TZID=America/Los_Angeles:20250923T110000
DTSTAMP:20260423T173826
CREATED:20250913T050624Z
LAST-MODIFIED:20250916T181721Z
UID:11928-1758621600-1758625200@theyogaangel.com
SUMMARY:Gentle Yoga with Sound Healing
DESCRIPTION:Start your Tuesday morning with an uplifting hour of gentle yoga at InShape Fitness (Sunrise–Zinfandel). From 10–11 am\, Kelley will guide you through mindful movement and breathwork to help you feel grounded\, energized\, and ready for the day.
URL:https://theyogaangel.com/event/gentle-yoga-with-sound-healing-7/
LOCATION:InShape Fitness (Sunrise- Zinfandel)\, 1975 Zinfandel Drive\, Rancho Cordova\, CA\, 95670
CATEGORIES:Gentle Yoga,InShape Fitness,Sound Healing
ATTACH;FMTTYPE=image/jpeg:https://theyogaangel.com/wp-content/uploads/2025/09/Yoga-4.jpg
END:VEVENT
BEGIN:VEVENT
DTSTART;TZID=America/Los_Angeles:20250922T180000
DTEND;TZID=America/Los_Angeles:20250922T190000
DTSTAMP:20260423T173826
CREATED:20250913T050204Z
LAST-MODIFIED:20250913T050204Z
UID:11926-1758564000-1758567600@theyogaangel.com
SUMMARY:Gentle Yoga with Sound Healing
DESCRIPTION:Join Kelley for an evening of restorative movement and calming sound at InShape Fitness in Carmichael. From 6–7 pm\, this gentle practice will help you release stress\, find balance\, and leave feeling renewed in body and mind.
URL:https://theyogaangel.com/event/gentle-yoga-with-sound-healing-6/
LOCATION:InShape Fitness (Carmichael)\, 7941 Fair Oaks Blvd.\, Carmichael\, CA\, 95608
CATEGORIES:Gentle Yoga,InShape Fitness,Sound Healing
ATTACH;FMTTYPE=image/jpeg:https://theyogaangel.com/wp-content/uploads/2025/09/Yoga-2.jpg
END:VEVENT
BEGIN:VEVENT
DTSTART;TZID=America/Los_Angeles:20250921T100000
DTEND;TZID=America/Los_Angeles:20250921T110000
DTSTAMP:20260423T173826
CREATED:20250912T060817Z
LAST-MODIFIED:20250916T181657Z
UID:11825-1758448800-1758452400@theyogaangel.com
SUMMARY:Gentle Yoga with Sound Healing
DESCRIPTION:Begin your Sunday with a restorative practice at InShape Fitness (Sunrise–Zinfandel). From 10–11 am\, Kelley weaves gentle yoga with soothing sound healing to help you reset\, recharge\, and step into the week with clarity and ease.
URL:https://theyogaangel.com/event/gentle-yoga-with-sound-healing-4/
LOCATION:InShape Fitness (Sunrise- Zinfandel)\, 1975 Zinfandel Drive\, Rancho Cordova\, CA\, 95670
CATEGORIES:Gentle Yoga,InShape Fitness,Sound Healing
ATTACH;FMTTYPE=image/jpeg:https://theyogaangel.com/wp-content/uploads/2025/09/Yoga-6.jpg
END:VEVENT
BEGIN:VEVENT
DTSTART;TZID=America/Los_Angeles:20250918T173000
DTEND;TZID=America/Los_Angeles:20250918T183000
DTSTAMP:20260423T173826
CREATED:20250912T060506Z
LAST-MODIFIED:20250916T181536Z
UID:11820-1758216600-1758220200@theyogaangel.com
SUMMARY:Gentle Yoga with Sound Healing
DESCRIPTION:Close out your day with a calming practice at InShape Fitness in Orangevale. From 5:30–6:30 pm\, Kelley leads a gentle flow designed to release tension\, restore balance\, and leave you feeling centered for the evening.
URL:https://theyogaangel.com/event/gentle-yoga-with-sound-healing-3/
LOCATION:InShape Fitness (Orangevale)\, 8680 Greenback Lane Ste. 110\, Orangevale\, CA\, 95662
CATEGORIES:Gentle Yoga,InShape Fitness,Sound Healing
ATTACH;FMTTYPE=image/jpeg:https://theyogaangel.com/wp-content/uploads/2025/09/Yoga-1.jpg
END:VEVENT
BEGIN:VEVENT
DTSTART;TZID=America/Los_Angeles:20250918T100000
DTEND;TZID=America/Los_Angeles:20250918T110000
DTSTAMP:20260423T173826
CREATED:20250912T060300Z
LAST-MODIFIED:20250916T181551Z
UID:11817-1758189600-1758193200@theyogaangel.com
SUMMARY:Gentle Yoga with Sound Healing
DESCRIPTION:Brighten your Thursday morning with gentle yoga at InShape Fitness in Citrus Heights. From 10–11 am\, Kelley guides a supportive practice that encourages ease\, balance\, and a calm start to the day.
URL:https://theyogaangel.com/event/gentle-yoga-with-sound-healing-2/
LOCATION:InShape Fitness (Citrus Heights)\, 7700 Sunrise Blvd.\, Citrus Heights\, CA\, 95610
CATEGORIES:Gentle Yoga,InShape Fitness,Sound Healing
ATTACH;FMTTYPE=image/jpeg:https://theyogaangel.com/wp-content/uploads/2025/09/Yoga-7.jpg
END:VEVENT
END:VCALENDAR