BEGIN:VCALENDAR
VERSION:2.0
PRODID:-//The Yoga Angel - ECPv6.15.13//NONSGML v1.0//EN
CALSCALE:GREGORIAN
METHOD:PUBLISH
X-ORIGINAL-URL:https://theyogaangel.com
X-WR-CALDESC:Events for The Yoga Angel
REFRESH-INTERVAL;VALUE=DURATION:PT1H
X-Robots-Tag:noindex
X-PUBLISHED-TTL:PT1H
BEGIN:VTIMEZONE
TZID:America/Los_Angeles
BEGIN:DAYLIGHT
TZOFFSETFROM:-0800
TZOFFSETTO:-0700
TZNAME:PDT
DTSTART:20240310T100000
END:DAYLIGHT
BEGIN:STANDARD
TZOFFSETFROM:-0700
TZOFFSETTO:-0800
TZNAME:PST
DTSTART:20241103T090000
END:STANDARD
BEGIN:DAYLIGHT
TZOFFSETFROM:-0800
TZOFFSETTO:-0700
TZNAME:PDT
DTSTART:20250309T100000
END:DAYLIGHT
BEGIN:STANDARD
TZOFFSETFROM:-0700
TZOFFSETTO:-0800
TZNAME:PST
DTSTART:20251102T090000
END:STANDARD
BEGIN:DAYLIGHT
TZOFFSETFROM:-0800
TZOFFSETTO:-0700
TZNAME:PDT
DTSTART:20260308T100000
END:DAYLIGHT
BEGIN:STANDARD
TZOFFSETFROM:-0700
TZOFFSETTO:-0800
TZNAME:PST
DTSTART:20261101T090000
END:STANDARD
END:VTIMEZONE
BEGIN:VEVENT
DTSTART;TZID=America/Los_Angeles:20251110T180000
DTEND;TZID=America/Los_Angeles:20251110T190000
DTSTAMP:20260423T121717
CREATED:20250928T225829Z
LAST-MODIFIED:20250928T225829Z
UID:12303-1762797600-1762801200@theyogaangel.com
SUMMARY:Gentle Yoga with Sound Healing
DESCRIPTION:Join Kelley for an evening of restorative movement and calming sound at InShape Fitness in Carmichael. From 6–7 pm\, this gentle practice will help you release stress\, find balance\, and leave feeling renewed in body and mind.
URL:https://theyogaangel.com/event/gentle-yoga-with-sound-healing-46/
LOCATION:InShape Fitness (Carmichael)\, 7941 Fair Oaks Blvd.\, Carmichael\, CA\, 95608
CATEGORIES:Gentle Yoga,InShape Fitness,Sound Healing
ATTACH;FMTTYPE=image/jpeg:https://theyogaangel.com/wp-content/uploads/2025/09/Yoga-2.jpg
END:VEVENT
BEGIN:VEVENT
DTSTART;TZID=America/Los_Angeles:20251110T100000
DTEND;TZID=America/Los_Angeles:20251110T110000
DTSTAMP:20260423T121717
CREATED:20250928T230719Z
LAST-MODIFIED:20250928T230719Z
UID:12326-1762768800-1762772400@theyogaangel.com
SUMMARY:Gentle Yoga with Sound Healing
DESCRIPTION:Begin your Sunday with a restorative practice at InShape Fitness (Sunrise–Zinfandel). From 10–11 am\, Kelley weaves gentle yoga with soothing sound healing to help you reset\, recharge\, and step into the week with clarity and ease.
URL:https://theyogaangel.com/event/gentle-yoga-with-sound-healing-58/
LOCATION:InShape Fitness (Sunrise- Zinfandel)\, 1975 Zinfandel Drive\, Rancho Cordova\, CA\, 95670
CATEGORIES:Gentle Yoga,InShape Fitness,Sound Healing
ATTACH;FMTTYPE=image/jpeg:https://theyogaangel.com/wp-content/uploads/2025/09/Yoga-6.jpg
END:VEVENT
BEGIN:VEVENT
DTSTART;TZID=America/Los_Angeles:20251106T173000
DTEND;TZID=America/Los_Angeles:20251106T183000
DTSTAMP:20260423T121717
CREATED:20250928T225657Z
LAST-MODIFIED:20250928T225657Z
UID:12298-1762450200-1762453800@theyogaangel.com
SUMMARY:Gentle Yoga with Sound Healing
DESCRIPTION:Close out your day with a calming practice at InShape Fitness in Orangevale. From 5:30–6:30 pm\, Kelley leads a gentle flow designed to release tension\, restore balance\, and leave you feeling centered for the evening.
URL:https://theyogaangel.com/event/gentle-yoga-with-sound-healing-44/
LOCATION:InShape Fitness (Orangevale)\, 8680 Greenback Lane Ste. 110\, Orangevale\, CA\, 95662
CATEGORIES:Gentle Yoga,InShape Fitness,Sound Healing
ATTACH;FMTTYPE=image/jpeg:https://theyogaangel.com/wp-content/uploads/2025/09/Yoga-1.jpg
END:VEVENT
BEGIN:VEVENT
DTSTART;TZID=America/Los_Angeles:20251106T100000
DTEND;TZID=America/Los_Angeles:20251106T110000
DTSTAMP:20260423T121717
CREATED:20250928T225634Z
LAST-MODIFIED:20250928T225634Z
UID:12297-1762423200-1762426800@theyogaangel.com
SUMMARY:Gentle Yoga with Sound Healing
DESCRIPTION:Brighten your Thursday morning with gentle yoga at InShape Fitness in Citrus Heights. From 10–11 am\, Kelley guides a supportive practice that encourages ease\, balance\, and a calm start to the day.
URL:https://theyogaangel.com/event/gentle-yoga-with-sound-healing-43/
LOCATION:InShape Fitness (Citrus Heights)\, 7700 Sunrise Blvd.\, Citrus Heights\, CA\, 95610
CATEGORIES:Gentle Yoga,InShape Fitness,Sound Healing
ATTACH;FMTTYPE=image/jpeg:https://theyogaangel.com/wp-content/uploads/2025/09/Yoga-7.jpg
END:VEVENT
BEGIN:VEVENT
DTSTART;TZID=America/Los_Angeles:20251104T190000
DTEND;TZID=America/Los_Angeles:20251104T200000
DTSTAMP:20260423T121717
CREATED:20250928T225544Z
LAST-MODIFIED:20250928T225544Z
UID:12295-1762282800-1762286400@theyogaangel.com
SUMMARY:Gentle Yoga with Sound Healing
DESCRIPTION:Unwind at the end of your day with an evening practice at Violet Wellness Spa in Fair Oaks. From 7–8 pm\, Kelley combines gentle yoga with soothing sound healing to help you release tension\, restore balance\, and relax deeply.
URL:https://theyogaangel.com/event/gentle-yoga-with-sound-healing-42/
LOCATION:Violet Wellness Spa\, 4125 Temescal St\, Fair Oaks\, CA\, 95628
CATEGORIES:Gentle Yoga,Sound Healing,Violet Wellness Spa
ATTACH;FMTTYPE=image/jpeg:https://theyogaangel.com/wp-content/uploads/2025/09/Yoga-3.jpg
END:VEVENT
BEGIN:VEVENT
DTSTART;TZID=America/Los_Angeles:20251104T100000
DTEND;TZID=America/Los_Angeles:20251104T110000
DTSTAMP:20260423T121717
CREATED:20250928T225513Z
LAST-MODIFIED:20250928T225513Z
UID:12293-1762250400-1762254000@theyogaangel.com
SUMMARY:Gentle Yoga with Sound Healing
DESCRIPTION:Begin your Sunday with a restorative practice at InShape Fitness (Sunrise–Zinfandel). From 10–11 am\, Kelley weaves gentle yoga with soothing sound healing to help you reset\, recharge\, and step into the week with clarity and ease.
URL:https://theyogaangel.com/event/gentle-yoga-with-sound-healing-41/
LOCATION:InShape Fitness (Sunrise- Zinfandel)\, 1975 Zinfandel Drive\, Rancho Cordova\, CA\, 95670
CATEGORIES:Gentle Yoga,InShape Fitness,Sound Healing
ATTACH;FMTTYPE=image/jpeg:https://theyogaangel.com/wp-content/uploads/2025/09/Yoga-6.jpg
END:VEVENT
BEGIN:VEVENT
DTSTART;TZID=America/Los_Angeles:20251103T180000
DTEND;TZID=America/Los_Angeles:20251103T190000
DTSTAMP:20260423T121717
CREATED:20250928T225449Z
LAST-MODIFIED:20250928T225449Z
UID:12291-1762192800-1762196400@theyogaangel.com
SUMMARY:Gentle Yoga with Sound Healing
DESCRIPTION:Join Kelley for an evening of restorative movement and calming sound at InShape Fitness in Carmichael. From 6–7 pm\, this gentle practice will help you release stress\, find balance\, and leave feeling renewed in body and mind.
URL:https://theyogaangel.com/event/gentle-yoga-with-sound-healing-40/
LOCATION:InShape Fitness (Carmichael)\, 7941 Fair Oaks Blvd.\, Carmichael\, CA\, 95608
CATEGORIES:Gentle Yoga,InShape Fitness,Sound Healing
ATTACH;FMTTYPE=image/jpeg:https://theyogaangel.com/wp-content/uploads/2025/09/Yoga-2.jpg
END:VEVENT
BEGIN:VEVENT
DTSTART;TZID=America/Los_Angeles:20251103T100000
DTEND;TZID=America/Los_Angeles:20251103T110000
DTSTAMP:20260423T121717
CREATED:20250928T230618Z
LAST-MODIFIED:20250928T230618Z
UID:12325-1762164000-1762167600@theyogaangel.com
SUMMARY:Gentle Yoga with Sound Healing
DESCRIPTION:Begin your Sunday with a restorative practice at InShape Fitness (Sunrise–Zinfandel). From 10–11 am\, Kelley weaves gentle yoga with soothing sound healing to help you reset\, recharge\, and step into the week with clarity and ease.
URL:https://theyogaangel.com/event/gentle-yoga-with-sound-healing-57/
LOCATION:InShape Fitness (Sunrise- Zinfandel)\, 1975 Zinfandel Drive\, Rancho Cordova\, CA\, 95670
CATEGORIES:Gentle Yoga,InShape Fitness,Sound Healing
ATTACH;FMTTYPE=image/jpeg:https://theyogaangel.com/wp-content/uploads/2025/09/Yoga-6.jpg
END:VEVENT
BEGIN:VEVENT
DTSTART;TZID=America/Los_Angeles:20251102T100000
DTEND;TZID=America/Los_Angeles:20251102T110000
DTSTAMP:20260423T121717
CREATED:20250928T225416Z
LAST-MODIFIED:20250928T225416Z
UID:12289-1762077600-1762081200@theyogaangel.com
SUMMARY:Gentle Yoga with Sound Healing
DESCRIPTION:Begin your Sunday with a restorative practice at InShape Fitness (Sunrise–Zinfandel). From 10–11 am\, Kelley weaves gentle yoga with soothing sound healing to help you reset\, recharge\, and step into the week with clarity and ease.
URL:https://theyogaangel.com/event/gentle-yoga-with-sound-healing-39/
LOCATION:InShape Fitness (Sunrise- Zinfandel)\, 1975 Zinfandel Drive\, Rancho Cordova\, CA\, 95670
CATEGORIES:Gentle Yoga,InShape Fitness,Sound Healing
ATTACH;FMTTYPE=image/jpeg:https://theyogaangel.com/wp-content/uploads/2025/09/Yoga-6.jpg
END:VEVENT
BEGIN:VEVENT
DTSTART;TZID=America/Los_Angeles:20251102T093000
DTEND;TZID=America/Los_Angeles:20251102T103000
DTSTAMP:20260423T121717
CREATED:20250723T110644Z
LAST-MODIFIED:20250928T200346Z
UID:720-1762075800-1762079400@theyogaangel.com
SUMMARY:Chicken Yoga & Sound Healing
DESCRIPTION:Chicken Yoga & Sound Healing is BACK! We’d love for you to join our growing flock at Ladybird Teahouse in Fair Oaks!\n\n\n\nCome stretch\, giggle\, and unwind with some of the friendliest chickens in town\, plus enjoy the calming magic of sound healing to ease your body\, mind\, and spirit. It’s a cluckin’ good time you won’t forget!\n\n\nWe also accept  Venmo. Thank you.
URL:https://theyogaangel.com/event/chicken-yoga-sound-healing-2/
LOCATION:Ladybird Teahouse\, 10120 Fair Oaks Blvd\, Fair Oaks\, CA\, 95628
CATEGORIES:Chicken Yoga,Sound Healing
ATTACH;FMTTYPE=image/png:https://theyogaangel.com/wp-content/uploads/2025/07/Chicken-Yoga.png
END:VEVENT
BEGIN:VEVENT
DTSTART;TZID=America/Los_Angeles:20251030T173000
DTEND;TZID=America/Los_Angeles:20251030T183000
DTSTAMP:20260423T121717
CREATED:20250928T225132Z
LAST-MODIFIED:20250928T225132Z
UID:12285-1761845400-1761849000@theyogaangel.com
SUMMARY:Gentle Yoga with Sound Healing
DESCRIPTION:Close out your day with a calming practice at InShape Fitness in Orangevale. From 5:30–6:30 pm\, Kelley leads a gentle flow designed to release tension\, restore balance\, and leave you feeling centered for the evening.
URL:https://theyogaangel.com/event/gentle-yoga-with-sound-healing-37/
LOCATION:InShape Fitness (Orangevale)\, 8680 Greenback Lane Ste. 110\, Orangevale\, CA\, 95662
CATEGORIES:Gentle Yoga,InShape Fitness,Sound Healing
ATTACH;FMTTYPE=image/jpeg:https://theyogaangel.com/wp-content/uploads/2025/09/Yoga-1.jpg
END:VEVENT
BEGIN:VEVENT
DTSTART;TZID=America/Los_Angeles:20251030T100000
DTEND;TZID=America/Los_Angeles:20251030T110000
DTSTAMP:20260423T121717
CREATED:20250928T225200Z
LAST-MODIFIED:20250928T225200Z
UID:12287-1761818400-1761822000@theyogaangel.com
SUMMARY:Gentle Yoga with Sound Healing
DESCRIPTION:Brighten your Thursday morning with gentle yoga at InShape Fitness in Citrus Heights. From 10–11 am\, Kelley guides a supportive practice that encourages ease\, balance\, and a calm start to the day.
URL:https://theyogaangel.com/event/gentle-yoga-with-sound-healing-38/
LOCATION:InShape Fitness (Citrus Heights)\, 7700 Sunrise Blvd.\, Citrus Heights\, CA\, 95610
CATEGORIES:Gentle Yoga,InShape Fitness,Sound Healing
ATTACH;FMTTYPE=image/jpeg:https://theyogaangel.com/wp-content/uploads/2025/09/Yoga-7.jpg
END:VEVENT
BEGIN:VEVENT
DTSTART;TZID=America/Los_Angeles:20251028T190000
DTEND;TZID=America/Los_Angeles:20251028T200000
DTSTAMP:20260423T121717
CREATED:20250928T225031Z
LAST-MODIFIED:20250928T225031Z
UID:12281-1761678000-1761681600@theyogaangel.com
SUMMARY:Gentle Yoga with Sound Healing
DESCRIPTION:Unwind at the end of your day with an evening practice at Violet Wellness Spa in Fair Oaks. From 7–8 pm\, Kelley combines gentle yoga with soothing sound healing to help you release tension\, restore balance\, and relax deeply.
URL:https://theyogaangel.com/event/gentle-yoga-with-sound-healing-35/
LOCATION:Violet Wellness Spa\, 4125 Temescal St\, Fair Oaks\, CA\, 95628
CATEGORIES:Gentle Yoga,Sound Healing,Violet Wellness Spa
ATTACH;FMTTYPE=image/jpeg:https://theyogaangel.com/wp-content/uploads/2025/09/Yoga-3.jpg
END:VEVENT
BEGIN:VEVENT
DTSTART;TZID=America/Los_Angeles:20251028T100000
DTEND;TZID=America/Los_Angeles:20251028T110000
DTSTAMP:20260423T121717
CREATED:20250928T225103Z
LAST-MODIFIED:20250928T225103Z
UID:12283-1761645600-1761649200@theyogaangel.com
SUMMARY:Gentle Yoga with Sound Healing
DESCRIPTION:Begin your Sunday with a restorative practice at InShape Fitness (Sunrise–Zinfandel). From 10–11 am\, Kelley weaves gentle yoga with soothing sound healing to help you reset\, recharge\, and step into the week with clarity and ease.
URL:https://theyogaangel.com/event/gentle-yoga-with-sound-healing-36/
LOCATION:InShape Fitness (Sunrise- Zinfandel)\, 1975 Zinfandel Drive\, Rancho Cordova\, CA\, 95670
CATEGORIES:Gentle Yoga,InShape Fitness,Sound Healing
ATTACH;FMTTYPE=image/jpeg:https://theyogaangel.com/wp-content/uploads/2025/09/Yoga-6.jpg
END:VEVENT
BEGIN:VEVENT
DTSTART;TZID=America/Los_Angeles:20251027T180000
DTEND;TZID=America/Los_Angeles:20251027T190000
DTSTAMP:20260423T121717
CREATED:20250928T225005Z
LAST-MODIFIED:20250928T225005Z
UID:12279-1761588000-1761591600@theyogaangel.com
SUMMARY:Gentle Yoga with Sound Healing
DESCRIPTION:Join Kelley for an evening of restorative movement and calming sound at InShape Fitness in Carmichael. From 6–7 pm\, this gentle practice will help you release stress\, find balance\, and leave feeling renewed in body and mind.
URL:https://theyogaangel.com/event/gentle-yoga-with-sound-healing-34/
LOCATION:InShape Fitness (Carmichael)\, 7941 Fair Oaks Blvd.\, Carmichael\, CA\, 95608
CATEGORIES:Gentle Yoga,InShape Fitness,Sound Healing
ATTACH;FMTTYPE=image/jpeg:https://theyogaangel.com/wp-content/uploads/2025/09/Yoga-2.jpg
END:VEVENT
BEGIN:VEVENT
DTSTART;TZID=America/Los_Angeles:20251027T100000
DTEND;TZID=America/Los_Angeles:20251027T110000
DTSTAMP:20260423T121717
CREATED:20250928T231440Z
LAST-MODIFIED:20250928T231440Z
UID:12333-1761559200-1761562800@theyogaangel.com
SUMMARY:Gentle Yoga with Sound Healing
DESCRIPTION:Begin your Sunday with a restorative practice at InShape Fitness (Sunrise–Zinfandel). From 10–11 am\, Kelley weaves gentle yoga with soothing sound healing to help you reset\, recharge\, and step into the week with clarity and ease.
URL:https://theyogaangel.com/event/gentle-yoga-with-sound-healing-28/
LOCATION:InShape Fitness (Sunrise- Zinfandel)\, 1975 Zinfandel Drive\, Rancho Cordova\, CA\, 95670
CATEGORIES:Gentle Yoga,InShape Fitness,Sound Healing
ATTACH;FMTTYPE=image/jpeg:https://theyogaangel.com/wp-content/uploads/2025/09/Yoga-6.jpg
END:VEVENT
BEGIN:VEVENT
DTSTART;TZID=America/Los_Angeles:20251026T100000
DTEND;TZID=America/Los_Angeles:20251026T110000
DTSTAMP:20260423T121717
CREATED:20250928T224929Z
LAST-MODIFIED:20250928T224929Z
UID:12277-1761472800-1761476400@theyogaangel.com
SUMMARY:Gentle Yoga with Sound Healing
DESCRIPTION:Begin your Sunday with a restorative practice at InShape Fitness (Sunrise–Zinfandel). From 10–11 am\, Kelley weaves gentle yoga with soothing sound healing to help you reset\, recharge\, and step into the week with clarity and ease.
URL:https://theyogaangel.com/event/gentle-yoga-with-sound-healing-33/
LOCATION:InShape Fitness (Sunrise- Zinfandel)\, 1975 Zinfandel Drive\, Rancho Cordova\, CA\, 95670
CATEGORIES:Gentle Yoga,InShape Fitness,Sound Healing
ATTACH;FMTTYPE=image/jpeg:https://theyogaangel.com/wp-content/uploads/2025/09/Yoga-6.jpg
END:VEVENT
BEGIN:VEVENT
DTSTART;TZID=America/Los_Angeles:20251023T173000
DTEND;TZID=America/Los_Angeles:20251023T183000
DTSTAMP:20260423T121717
CREATED:20250928T224852Z
LAST-MODIFIED:20250928T224852Z
UID:12275-1761240600-1761244200@theyogaangel.com
SUMMARY:Gentle Yoga with Sound Healing
DESCRIPTION:Close out your day with a calming practice at InShape Fitness in Orangevale. From 5:30–6:30 pm\, Kelley leads a gentle flow designed to release tension\, restore balance\, and leave you feeling centered for the evening.
URL:https://theyogaangel.com/event/gentle-yoga-with-sound-healing-32/
LOCATION:InShape Fitness (Orangevale)\, 8680 Greenback Lane Ste. 110\, Orangevale\, CA\, 95662
CATEGORIES:Gentle Yoga,InShape Fitness,Sound Healing
ATTACH;FMTTYPE=image/jpeg:https://theyogaangel.com/wp-content/uploads/2025/09/Yoga-1.jpg
END:VEVENT
BEGIN:VEVENT
DTSTART;TZID=America/Los_Angeles:20251023T100000
DTEND;TZID=America/Los_Angeles:20251023T110000
DTSTAMP:20260423T121717
CREATED:20250928T224819Z
LAST-MODIFIED:20250928T224819Z
UID:12273-1761213600-1761217200@theyogaangel.com
SUMMARY:Gentle Yoga with Sound Healing
DESCRIPTION:Brighten your Thursday morning with gentle yoga at InShape Fitness in Citrus Heights. From 10–11 am\, Kelley guides a supportive practice that encourages ease\, balance\, and a calm start to the day.
URL:https://theyogaangel.com/event/gentle-yoga-with-sound-healing-31/
LOCATION:InShape Fitness (Citrus Heights)\, 7700 Sunrise Blvd.\, Citrus Heights\, CA\, 95610
CATEGORIES:Gentle Yoga,InShape Fitness,Sound Healing
ATTACH;FMTTYPE=image/jpeg:https://theyogaangel.com/wp-content/uploads/2025/09/Yoga-7.jpg
END:VEVENT
BEGIN:VEVENT
DTSTART;TZID=America/Los_Angeles:20251021T190000
DTEND;TZID=America/Los_Angeles:20251021T200000
DTSTAMP:20260423T121717
CREATED:20250928T224740Z
LAST-MODIFIED:20250928T224740Z
UID:12271-1761073200-1761076800@theyogaangel.com
SUMMARY:Gentle Yoga with Sound Healing
DESCRIPTION:Unwind at the end of your day with an evening practice at Violet Wellness Spa in Fair Oaks. From 7–8 pm\, Kelley combines gentle yoga with soothing sound healing to help you release tension\, restore balance\, and relax deeply.
URL:https://theyogaangel.com/event/gentle-yoga-with-sound-healing-30/
LOCATION:Violet Wellness Spa\, 4125 Temescal St\, Fair Oaks\, CA\, 95628
CATEGORIES:Gentle Yoga,Sound Healing,Violet Wellness Spa
ATTACH;FMTTYPE=image/jpeg:https://theyogaangel.com/wp-content/uploads/2025/09/Yoga-3.jpg
END:VEVENT
BEGIN:VEVENT
DTSTART;TZID=America/Los_Angeles:20251021T100000
DTEND;TZID=America/Los_Angeles:20251021T110000
DTSTAMP:20260423T121717
CREATED:20250928T224714Z
LAST-MODIFIED:20250928T224714Z
UID:12269-1761040800-1761044400@theyogaangel.com
SUMMARY:Gentle Yoga with Sound Healing
DESCRIPTION:Begin your Sunday with a restorative practice at InShape Fitness (Sunrise–Zinfandel). From 10–11 am\, Kelley weaves gentle yoga with soothing sound healing to help you reset\, recharge\, and step into the week with clarity and ease.
URL:https://theyogaangel.com/event/gentle-yoga-with-sound-healing-29/
LOCATION:InShape Fitness (Sunrise- Zinfandel)\, 1975 Zinfandel Drive\, Rancho Cordova\, CA\, 95670
CATEGORIES:Gentle Yoga,InShape Fitness,Sound Healing
ATTACH;FMTTYPE=image/jpeg:https://theyogaangel.com/wp-content/uploads/2025/09/Yoga-6.jpg
END:VEVENT
BEGIN:VEVENT
DTSTART;TZID=America/Los_Angeles:20251020T180000
DTEND;TZID=America/Los_Angeles:20251020T190000
DTSTAMP:20260423T121717
CREATED:20250928T224054Z
LAST-MODIFIED:20250928T224054Z
UID:12255-1760983200-1760986800@theyogaangel.com
SUMMARY:Gentle Yoga with Sound Healing
DESCRIPTION:Join Kelley for an evening of restorative movement and calming sound at InShape Fitness in Carmichael. From 6–7 pm\, this gentle practice will help you release stress\, find balance\, and leave feeling renewed in body and mind.
URL:https://theyogaangel.com/event/gentle-yoga-with-sound-healing-22/
LOCATION:InShape Fitness (Carmichael)\, 7941 Fair Oaks Blvd.\, Carmichael\, CA\, 95608
CATEGORIES:Gentle Yoga,InShape Fitness,Sound Healing
ATTACH;FMTTYPE=image/jpeg:https://theyogaangel.com/wp-content/uploads/2025/09/Yoga-2.jpg
END:VEVENT
BEGIN:VEVENT
DTSTART;TZID=America/Los_Angeles:20251020T100000
DTEND;TZID=America/Los_Angeles:20251020T110000
DTSTAMP:20260423T121717
CREATED:20250928T231307Z
LAST-MODIFIED:20250928T231307Z
UID:12331-1760954400-1760958000@theyogaangel.com
SUMMARY:Gentle Yoga with Sound Healing
DESCRIPTION:Begin your Sunday with a restorative practice at InShape Fitness (Sunrise–Zinfandel). From 10–11 am\, Kelley weaves gentle yoga with soothing sound healing to help you reset\, recharge\, and step into the week with clarity and ease.
URL:https://theyogaangel.com/event/gentle-yoga-with-sound-healing-59/
LOCATION:InShape Fitness (Sunrise- Zinfandel)\, 1975 Zinfandel Drive\, Rancho Cordova\, CA\, 95670
CATEGORIES:Gentle Yoga,InShape Fitness,Sound Healing
ATTACH;FMTTYPE=image/jpeg:https://theyogaangel.com/wp-content/uploads/2025/09/Yoga-6.jpg
END:VEVENT
BEGIN:VEVENT
DTSTART;TZID=America/Los_Angeles:20251019T100000
DTEND;TZID=America/Los_Angeles:20251019T110000
DTSTAMP:20260423T121717
CREATED:20250928T224552Z
LAST-MODIFIED:20250928T224552Z
UID:12265-1760868000-1760871600@theyogaangel.com
SUMMARY:Gentle Yoga with Sound Healing
DESCRIPTION:Begin your Sunday with a restorative practice at InShape Fitness (Sunrise–Zinfandel). From 10–11 am\, Kelley weaves gentle yoga with soothing sound healing to help you reset\, recharge\, and step into the week with clarity and ease.
URL:https://theyogaangel.com/event/gentle-yoga-with-sound-healing-27/
LOCATION:InShape Fitness (Sunrise- Zinfandel)\, 1975 Zinfandel Drive\, Rancho Cordova\, CA\, 95670
CATEGORIES:Gentle Yoga,InShape Fitness,Sound Healing
ATTACH;FMTTYPE=image/jpeg:https://theyogaangel.com/wp-content/uploads/2025/09/Yoga-6.jpg
END:VEVENT
BEGIN:VEVENT
DTSTART;TZID=America/Los_Angeles:20251016T173000
DTEND;TZID=America/Los_Angeles:20251016T183000
DTSTAMP:20260423T121717
CREATED:20250928T224333Z
LAST-MODIFIED:20250928T224333Z
UID:12261-1760635800-1760639400@theyogaangel.com
SUMMARY:Gentle Yoga with Sound Healing
DESCRIPTION:Close out your day with a calming practice at InShape Fitness in Orangevale. From 5:30–6:30 pm\, Kelley leads a gentle flow designed to release tension\, restore balance\, and leave you feeling centered for the evening.
URL:https://theyogaangel.com/event/gentle-yoga-with-sound-healing-25/
LOCATION:InShape Fitness (Orangevale)\, 8680 Greenback Lane Ste. 110\, Orangevale\, CA\, 95662
CATEGORIES:Gentle Yoga,InShape Fitness,Sound Healing
ATTACH;FMTTYPE=image/jpeg:https://theyogaangel.com/wp-content/uploads/2025/09/Yoga-1.jpg
END:VEVENT
BEGIN:VEVENT
DTSTART;TZID=America/Los_Angeles:20251016T100000
DTEND;TZID=America/Los_Angeles:20251016T110000
DTSTAMP:20260423T121717
CREATED:20250928T224413Z
LAST-MODIFIED:20250928T224413Z
UID:12263-1760608800-1760612400@theyogaangel.com
SUMMARY:Gentle Yoga with Sound Healing
DESCRIPTION:Brighten your Thursday morning with gentle yoga at InShape Fitness in Citrus Heights. From 10–11 am\, Kelley guides a supportive practice that encourages ease\, balance\, and a calm start to the day.
URL:https://theyogaangel.com/event/gentle-yoga-with-sound-healing-26/
LOCATION:InShape Fitness (Citrus Heights)\, 7700 Sunrise Blvd.\, Citrus Heights\, CA\, 95610
CATEGORIES:Gentle Yoga,InShape Fitness,Sound Healing
ATTACH;FMTTYPE=image/jpeg:https://theyogaangel.com/wp-content/uploads/2025/09/Yoga-7.jpg
END:VEVENT
BEGIN:VEVENT
DTSTART;TZID=America/Los_Angeles:20251014T190000
DTEND;TZID=America/Los_Angeles:20251014T200000
DTSTAMP:20260423T121717
CREATED:20250928T224215Z
LAST-MODIFIED:20250928T224215Z
UID:12257-1760468400-1760472000@theyogaangel.com
SUMMARY:Gentle Yoga with Sound Healing
DESCRIPTION:Unwind at the end of your day with an evening practice at Violet Wellness Spa in Fair Oaks. From 7–8 pm\, Kelley combines gentle yoga with soothing sound healing to help you release tension\, restore balance\, and relax deeply.
URL:https://theyogaangel.com/event/gentle-yoga-with-sound-healing-23/
LOCATION:Violet Wellness Spa\, 4125 Temescal St\, Fair Oaks\, CA\, 95628
CATEGORIES:Gentle Yoga,Sound Healing,Violet Wellness Spa
ATTACH;FMTTYPE=image/jpeg:https://theyogaangel.com/wp-content/uploads/2025/09/Yoga-3.jpg
END:VEVENT
BEGIN:VEVENT
DTSTART;TZID=America/Los_Angeles:20251014T100000
DTEND;TZID=America/Los_Angeles:20251014T110000
DTSTAMP:20260423T121717
CREATED:20250928T224244Z
LAST-MODIFIED:20250928T224244Z
UID:12259-1760436000-1760439600@theyogaangel.com
SUMMARY:Gentle Yoga with Sound Healing
DESCRIPTION:Begin your Sunday with a restorative practice at InShape Fitness (Sunrise–Zinfandel). From 10–11 am\, Kelley weaves gentle yoga with soothing sound healing to help you reset\, recharge\, and step into the week with clarity and ease.
URL:https://theyogaangel.com/event/gentle-yoga-with-sound-healing-24/
LOCATION:InShape Fitness (Sunrise- Zinfandel)\, 1975 Zinfandel Drive\, Rancho Cordova\, CA\, 95670
CATEGORIES:Gentle Yoga,InShape Fitness,Sound Healing
ATTACH;FMTTYPE=image/jpeg:https://theyogaangel.com/wp-content/uploads/2025/09/Yoga-6.jpg
END:VEVENT
BEGIN:VEVENT
DTSTART;TZID=America/Los_Angeles:20251013T180000
DTEND;TZID=America/Los_Angeles:20251013T190000
DTSTAMP:20260423T121717
CREATED:20250928T221456Z
LAST-MODIFIED:20250928T221456Z
UID:12243-1760378400-1760382000@theyogaangel.com
SUMMARY:Gentle Yoga with Sound Healing
DESCRIPTION:Join Kelley for an evening of restorative movement and calming sound at InShape Fitness in Carmichael. From 6–7 pm\, this gentle practice will help you release stress\, find balance\, and leave feeling renewed in body and mind.
URL:https://theyogaangel.com/event/gentle-yoga-with-sound-healing-16/
LOCATION:InShape Fitness (Carmichael)\, 7941 Fair Oaks Blvd.\, Carmichael\, CA\, 95608
CATEGORIES:Gentle Yoga,InShape Fitness,Sound Healing
ATTACH;FMTTYPE=image/jpeg:https://theyogaangel.com/wp-content/uploads/2025/09/Yoga-2.jpg
END:VEVENT
BEGIN:VEVENT
DTSTART;TZID=America/Los_Angeles:20251012T100000
DTEND;TZID=America/Los_Angeles:20251012T110000
DTSTAMP:20260423T121717
CREATED:20250928T224014Z
LAST-MODIFIED:20250928T224014Z
UID:12253-1760263200-1760266800@theyogaangel.com
SUMMARY:Gentle Yoga with Sound Healing
DESCRIPTION:Begin your Sunday with a restorative practice at InShape Fitness (Sunrise–Zinfandel). From 10–11 am\, Kelley weaves gentle yoga with soothing sound healing to help you reset\, recharge\, and step into the week with clarity and ease.
URL:https://theyogaangel.com/event/gentle-yoga-with-sound-healing-21/
LOCATION:InShape Fitness (Sunrise- Zinfandel)\, 1975 Zinfandel Drive\, Rancho Cordova\, CA\, 95670
CATEGORIES:Gentle Yoga,InShape Fitness,Sound Healing
ATTACH;FMTTYPE=image/jpeg:https://theyogaangel.com/wp-content/uploads/2025/09/Yoga-6.jpg
END:VEVENT
END:VCALENDAR