BEGIN:VCALENDAR
VERSION:2.0
PRODID:-//The Yoga Angel - ECPv6.15.13//NONSGML v1.0//EN
CALSCALE:GREGORIAN
METHOD:PUBLISH
X-ORIGINAL-URL:https://theyogaangel.com
X-WR-CALDESC:Events for The Yoga Angel
REFRESH-INTERVAL;VALUE=DURATION:PT1H
X-Robots-Tag:noindex
X-PUBLISHED-TTL:PT1H
BEGIN:VTIMEZONE
TZID:America/Los_Angeles
BEGIN:DAYLIGHT
TZOFFSETFROM:-0800
TZOFFSETTO:-0700
TZNAME:PDT
DTSTART:20240310T100000
END:DAYLIGHT
BEGIN:STANDARD
TZOFFSETFROM:-0700
TZOFFSETTO:-0800
TZNAME:PST
DTSTART:20241103T090000
END:STANDARD
BEGIN:DAYLIGHT
TZOFFSETFROM:-0800
TZOFFSETTO:-0700
TZNAME:PDT
DTSTART:20250309T100000
END:DAYLIGHT
BEGIN:STANDARD
TZOFFSETFROM:-0700
TZOFFSETTO:-0800
TZNAME:PST
DTSTART:20251102T090000
END:STANDARD
BEGIN:DAYLIGHT
TZOFFSETFROM:-0800
TZOFFSETTO:-0700
TZNAME:PDT
DTSTART:20260308T100000
END:DAYLIGHT
BEGIN:STANDARD
TZOFFSETFROM:-0700
TZOFFSETTO:-0800
TZNAME:PST
DTSTART:20261101T090000
END:STANDARD
END:VTIMEZONE
BEGIN:VEVENT
DTSTART;TZID=America/Los_Angeles:20251118T190000
DTEND;TZID=America/Los_Angeles:20251118T200000
DTSTAMP:20260423T154458
CREATED:20250928T230156Z
LAST-MODIFIED:20250928T230156Z
UID:12318-1763492400-1763496000@theyogaangel.com
SUMMARY:Gentle Yoga with Sound Healing
DESCRIPTION:Unwind at the end of your day with an evening practice at Violet Wellness Spa in Fair Oaks. From 7–8 pm\, Kelley combines gentle yoga with soothing sound healing to help you release tension\, restore balance\, and relax deeply.
URL:https://theyogaangel.com/event/gentle-yoga-with-sound-healing-53/
LOCATION:Violet Wellness Spa\, 4125 Temescal St\, Fair Oaks\, CA\, 95628
CATEGORIES:Gentle Yoga,Sound Healing,Violet Wellness Spa
ATTACH;FMTTYPE=image/jpeg:https://theyogaangel.com/wp-content/uploads/2025/09/Yoga-3.jpg
END:VEVENT
BEGIN:VEVENT
DTSTART;TZID=America/Los_Angeles:20251111T190000
DTEND;TZID=America/Los_Angeles:20251111T200000
DTSTAMP:20260423T154458
CREATED:20250928T225905Z
LAST-MODIFIED:20250928T225905Z
UID:12305-1762887600-1762891200@theyogaangel.com
SUMMARY:Gentle Yoga with Sound Healing
DESCRIPTION:Unwind at the end of your day with an evening practice at Violet Wellness Spa in Fair Oaks. From 7–8 pm\, Kelley combines gentle yoga with soothing sound healing to help you release tension\, restore balance\, and relax deeply.
URL:https://theyogaangel.com/event/gentle-yoga-with-sound-healing-47/
LOCATION:Violet Wellness Spa\, 4125 Temescal St\, Fair Oaks\, CA\, 95628
CATEGORIES:Gentle Yoga,Sound Healing,Violet Wellness Spa
ATTACH;FMTTYPE=image/jpeg:https://theyogaangel.com/wp-content/uploads/2025/09/Yoga-3.jpg
END:VEVENT
BEGIN:VEVENT
DTSTART;TZID=America/Los_Angeles:20251104T190000
DTEND;TZID=America/Los_Angeles:20251104T200000
DTSTAMP:20260423T154458
CREATED:20250928T225544Z
LAST-MODIFIED:20250928T225544Z
UID:12295-1762282800-1762286400@theyogaangel.com
SUMMARY:Gentle Yoga with Sound Healing
DESCRIPTION:Unwind at the end of your day with an evening practice at Violet Wellness Spa in Fair Oaks. From 7–8 pm\, Kelley combines gentle yoga with soothing sound healing to help you release tension\, restore balance\, and relax deeply.
URL:https://theyogaangel.com/event/gentle-yoga-with-sound-healing-42/
LOCATION:Violet Wellness Spa\, 4125 Temescal St\, Fair Oaks\, CA\, 95628
CATEGORIES:Gentle Yoga,Sound Healing,Violet Wellness Spa
ATTACH;FMTTYPE=image/jpeg:https://theyogaangel.com/wp-content/uploads/2025/09/Yoga-3.jpg
END:VEVENT
BEGIN:VEVENT
DTSTART;TZID=America/Los_Angeles:20251028T190000
DTEND;TZID=America/Los_Angeles:20251028T200000
DTSTAMP:20260423T154458
CREATED:20250928T225031Z
LAST-MODIFIED:20250928T225031Z
UID:12281-1761678000-1761681600@theyogaangel.com
SUMMARY:Gentle Yoga with Sound Healing
DESCRIPTION:Unwind at the end of your day with an evening practice at Violet Wellness Spa in Fair Oaks. From 7–8 pm\, Kelley combines gentle yoga with soothing sound healing to help you release tension\, restore balance\, and relax deeply.
URL:https://theyogaangel.com/event/gentle-yoga-with-sound-healing-35/
LOCATION:Violet Wellness Spa\, 4125 Temescal St\, Fair Oaks\, CA\, 95628
CATEGORIES:Gentle Yoga,Sound Healing,Violet Wellness Spa
ATTACH;FMTTYPE=image/jpeg:https://theyogaangel.com/wp-content/uploads/2025/09/Yoga-3.jpg
END:VEVENT
BEGIN:VEVENT
DTSTART;TZID=America/Los_Angeles:20251021T190000
DTEND;TZID=America/Los_Angeles:20251021T200000
DTSTAMP:20260423T154458
CREATED:20250928T224740Z
LAST-MODIFIED:20250928T224740Z
UID:12271-1761073200-1761076800@theyogaangel.com
SUMMARY:Gentle Yoga with Sound Healing
DESCRIPTION:Unwind at the end of your day with an evening practice at Violet Wellness Spa in Fair Oaks. From 7–8 pm\, Kelley combines gentle yoga with soothing sound healing to help you release tension\, restore balance\, and relax deeply.
URL:https://theyogaangel.com/event/gentle-yoga-with-sound-healing-30/
LOCATION:Violet Wellness Spa\, 4125 Temescal St\, Fair Oaks\, CA\, 95628
CATEGORIES:Gentle Yoga,Sound Healing,Violet Wellness Spa
ATTACH;FMTTYPE=image/jpeg:https://theyogaangel.com/wp-content/uploads/2025/09/Yoga-3.jpg
END:VEVENT
BEGIN:VEVENT
DTSTART;TZID=America/Los_Angeles:20251014T190000
DTEND;TZID=America/Los_Angeles:20251014T200000
DTSTAMP:20260423T154458
CREATED:20250928T224215Z
LAST-MODIFIED:20250928T224215Z
UID:12257-1760468400-1760472000@theyogaangel.com
SUMMARY:Gentle Yoga with Sound Healing
DESCRIPTION:Unwind at the end of your day with an evening practice at Violet Wellness Spa in Fair Oaks. From 7–8 pm\, Kelley combines gentle yoga with soothing sound healing to help you release tension\, restore balance\, and relax deeply.
URL:https://theyogaangel.com/event/gentle-yoga-with-sound-healing-23/
LOCATION:Violet Wellness Spa\, 4125 Temescal St\, Fair Oaks\, CA\, 95628
CATEGORIES:Gentle Yoga,Sound Healing,Violet Wellness Spa
ATTACH;FMTTYPE=image/jpeg:https://theyogaangel.com/wp-content/uploads/2025/09/Yoga-3.jpg
END:VEVENT
BEGIN:VEVENT
DTSTART;TZID=America/Los_Angeles:20251007T190000
DTEND;TZID=America/Los_Angeles:20251007T200000
DTSTAMP:20260423T154458
CREATED:20250928T221711Z
LAST-MODIFIED:20250928T221711Z
UID:12245-1759863600-1759867200@theyogaangel.com
SUMMARY:Gentle Yoga with Sound Healing
DESCRIPTION:Unwind at the end of your day with an evening practice at Violet Wellness Spa in Fair Oaks. From 7–8 pm\, Kelley combines gentle yoga with soothing sound healing to help you release tension\, restore balance\, and relax deeply.
URL:https://theyogaangel.com/event/gentle-yoga-with-sound-healing-17/
LOCATION:Violet Wellness Spa\, 4125 Temescal St\, Fair Oaks\, CA\, 95628
CATEGORIES:Gentle Yoga,Sound Healing,Violet Wellness Spa
ATTACH;FMTTYPE=image/jpeg:https://theyogaangel.com/wp-content/uploads/2025/09/Yoga-3.jpg
END:VEVENT
BEGIN:VEVENT
DTSTART;TZID=America/Los_Angeles:20250930T190000
DTEND;TZID=America/Los_Angeles:20250930T200000
DTSTAMP:20260423T154458
CREATED:20250913T050629Z
LAST-MODIFIED:20250913T050751Z
UID:11929-1759258800-1759262400@theyogaangel.com
SUMMARY:Gentle Yoga with Sound Healing
DESCRIPTION:Unwind at the end of your day with an evening practice at Violet Wellness Spa in Fair Oaks. From 7–8 pm\, Kelley combines gentle yoga with soothing sound healing to help you release tension\, restore balance\, and relax deeply.
URL:https://theyogaangel.com/event/gentle-yoga-with-sound-healing-8/
LOCATION:Violet Wellness Spa\, 4125 Temescal St\, Fair Oaks\, CA\, 95628
CATEGORIES:Gentle Yoga,Sound Healing,Violet Wellness Spa
ATTACH;FMTTYPE=image/jpeg:https://theyogaangel.com/wp-content/uploads/2025/09/Yoga-3.jpg
END:VEVENT
BEGIN:VEVENT
DTSTART;TZID=America/Los_Angeles:20250923T190000
DTEND;TZID=America/Los_Angeles:20250923T200000
DTSTAMP:20260423T154458
CREATED:20250913T005003Z
LAST-MODIFIED:20250913T050037Z
UID:11893-1758654000-1758657600@theyogaangel.com
SUMMARY:Gentle Yoga with Sound Healing
DESCRIPTION:Unwind at the end of your day with an evening practice at Violet Wellness Spa in Fair Oaks. From 7–8 pm\, Kelley combines gentle yoga with soothing sound healing to help you release tension\, restore balance\, and relax deeply.
URL:https://theyogaangel.com/event/gentle-yoga-with-sound-healing-5/
LOCATION:Violet Wellness Spa\, 4125 Temescal St\, Fair Oaks\, CA\, 95628
CATEGORIES:Gentle Yoga,Sound Healing,Violet Wellness Spa
ATTACH;FMTTYPE=image/jpeg:https://theyogaangel.com/wp-content/uploads/2025/09/Yoga-3.jpg
END:VEVENT
BEGIN:VEVENT
DTSTART;TZID=America/Los_Angeles:20250916T190000
DTEND;TZID=America/Los_Angeles:20250916T200000
DTSTAMP:20260423T154458
CREATED:20250912T060027Z
LAST-MODIFIED:20250916T181554Z
UID:11812-1758049200-1758052800@theyogaangel.com
SUMMARY:Gentle Yoga with Sound Healing
DESCRIPTION:Unwind at the end of your day with an evening practice at Violet Wellness Spa in Fair Oaks. From 7–8 pm\, Kelley combines gentle yoga with soothing sound healing to help you release tension\, restore balance\, and relax deeply.
URL:https://theyogaangel.com/event/gentle-yoga-with-sound-healing/
LOCATION:Violet Wellness Spa\, 4125 Temescal St\, Fair Oaks\, CA\, 95628
CATEGORIES:Gentle Yoga,Sound Healing,Violet Wellness Spa
ATTACH;FMTTYPE=image/jpeg:https://theyogaangel.com/wp-content/uploads/2025/09/Yoga-3.jpg
END:VEVENT
END:VCALENDAR